BEGIN:VCALENDAR
VERSION:2.0
PRODID:-//eventon.com NONSGML v1.0//EN
CALSCALE:GREGORIAN
METHOD:PUBLISH
BEGIN:VEVENT
UID:69e5855b6619e
DTSTAMP:20260420T014603Z
DTSTART:20260422T090000Z
DTEND:20260422T170000Z
LOCATION:Mondrian Ibiza Carrer de sa Talaia 20\,  07849 Cala Llonga\,  Balearic Islands\,  España
SUMMARY:International Music Summit
DESCRIPTION:Der International Music Summit (IMS) Ibiza findet wie jedes Jah
 r parallel zu den großen Club-Openings statt. Vom 22. bis 24. April 2026 t
 reffen sich im Hotel Mondrian und im Hyde in Cala Llonga internationale Bra
 nchenvertreter\,  Innovatoren\,  DJs und Artists der elektronischen Musiksz
 ene zu Panels\,  Networking und kulturellem Austausch. Delegate-Badges sind
 [..]\nhttps://www.ibiza-heute.de/events/international-music-summit/
URL:https://www.ibiza-heute.de/events/international-music-summit/
END:VEVENT
END:VCALENDAR