BEGIN:VCALENDAR
VERSION:2.0
PRODID:-//eventon.com NONSGML v1.0//EN
CALSCALE:GREGORIAN
METHOD:PUBLISH
BEGIN:VEVENT
UID:69eabb5f21e6c
DTSTAMP:20260424T003751Z
DTSTART:20260424T160000Z
DTEND:20260424T225900Z
LOCATION:Baluarte de Santa Lucía Carrer Santa Llúcia\,  s/n\,  07800 Eivissa\,  Illes Balears\,  España
SUMMARY:IMS - Grand Finale Open Air in Dalt Vila
DESCRIPTION:Das grosse Finale\,  die Open Air Party in Dalt Vila\,  wird am
  24. April gefeiert. DJ Line-up: Ahmed Spins\,  Ankhoï\,  Delilah\,  Eliza
  Rose\,  Elliot Schooling &amp; Liam Palmer\,  Faithless Sound System\,  In
 do Warehouse\,  Jazzy\,  Locky\,  L.P. Rhythm\,  Mayssa\,  Olive F\,  Pete 
 Tong 17 bis 0 Uhr Tickets: Ab 66 €[..]\nhttps://www.ibiza-heute.de/events
 /ims-grand-finale-open-air-in-dalt-vila/
URL:https://www.ibiza-heute.de/events/ims-grand-finale-open-air-in-dalt-vila/
END:VEVENT
END:VCALENDAR