BEGIN:VCALENDAR
VERSION:2.0
PRODID:-//eventon.com NONSGML v1.0//EN
CALSCALE:GREGORIAN
METHOD:PUBLISH
BEGIN:VEVENT
UID:69e57a1f77ca5
DTSTAMP:20260420T005807Z
DTSTART:20260423T090000Z
DTEND:20260423T225900Z
LOCATION:Sant Jordi Plaza 07817 Sant Jordi de ses Salines\,  Balearen
SUMMARY:Patronatsfest Sant Jordi - Tag des Schutzpatrons
DESCRIPTION:Festes de Sant Jordi 2026 – Tradition\,  Kultur und Musik In 
 Sant Jordi de ses Salines finden vom 9. April bis 2. Mai 2026 die tradition
 ellen Patronatsfeste statt. Über drei Wochen bietet das Programm eine Misc
 hung aus Kultur\,  Sport\,  Musik und Tradition für alle Altersgruppen. Zu
  den Highlights zählen das[..]\nhttps://www.ibiza-heute.de/events/patronat
 sfest-sant-jordi-tag-des-schutzpatrons/
URL:https://www.ibiza-heute.de/events/patronatsfest-sant-jordi-tag-des-schutzpatrons/
END:VEVENT
END:VCALENDAR