BEGIN:VCALENDAR
VERSION:2.0
PRODID:-//eventon.com NONSGML v1.0//EN
CALSCALE:GREGORIAN
METHOD:PUBLISH
BEGIN:VEVENT
UID:69e5d5631e847
DTSTAMP:20260420T072731Z
DTSTART:20260426T090000Z
DTEND:20260426T200000Z
LOCATION:
SUMMARY:Schwimmendes Museum im Hafen von Ibiza
DESCRIPTION:Nach einem erfolgreichen Auftakt in Barcelona setzt das Kulturp
 rojekt Art Explora seine Reise durch das Mittelmeer fort. Vom 23. bis 29. A
 pril macht das schwimmende Museum im Hafen von Ibizas Inselhauptstadt Stati
 on. Zuletzt zog das Festival in der katalanischen Metropole rund 47.000 Bes
 ucher an. Das 2024 gestartete Projekt versteht sich[..]\nhttps://www.ibiza-
 heute.de/events/schwimmendes-museum-im-hafen-von-ibiza/var/ri-3.l-L1
URL:https://www.ibiza-heute.de/events/schwimmendes-museum-im-hafen-von-ibiza/var/ri-3.l-L1
END:VEVENT
END:VCALENDAR