BEGIN:VCALENDAR
VERSION:2.0
PRODID:-//eventon.com NONSGML v1.0//EN
CALSCALE:GREGORIAN
METHOD:PUBLISH
BEGIN:VEVENT
UID:69e8ff7460309
DTSTAMP:20260422T170348Z
DTSTART:20260426T100000Z
DTEND:20260426T225900Z
LOCATION:Santa Gertrudis Kirche Carrer de la Vénda des Poble\,  12\,  07814 Santa Gertrudis de Fruitera\,  Illes Balears
SUMMARY:Traditionelle Landwirtschaftsmesse in Santa Gertrudis
DESCRIPTION:Fira Rural de Fruitera – Santa Gertrudis 25. &amp; 26. April 
 2026 Santa Gertrudis lädt zur &#8222;Fira Rural de Fruitera&#8220; ein –
  einer traditionellen Landwirtschaftsmesse rund um ibizenkische Kultur\,  l
 okale Produkte und das Landleben. Rund 70 Stände bieten Kunsthandwerk\,  r
 egionale Lebensmittel und landwirtschaftliche Erzeugnisse. Ergänzt wird da
 s Programm durch Ausstellungen[..]\nhttps://www.ibiza-heute.de/events/tradi
 tionelle-landwirtschaftsmesse-in-santa-gertrudis-2/
URL:https://www.ibiza-heute.de/events/traditionelle-landwirtschaftsmesse-in-santa-gertrudis-2/
END:VEVENT
END:VCALENDAR