BEGIN:VCALENDAR
VERSION:2.0
PRODID:-//eventon.com NONSGML v1.0//EN
CALSCALE:GREGORIAN
METHOD:PUBLISH
BEGIN:VEVENT
UID:69e5db156e406
DTSTAMP:20260420T075149Z
DTSTART:20260422T180000Z
DTEND:20260422T225900Z
LOCATION:Las Dalias Carretera\,  Km. 12\,  07850 Sant Carles de Peralta\,  Balearic Islands
SUMMARY:IMS Ibiza Opening Party
DESCRIPTION:Las Dalias Garten (19 &#8211; 23h) : 2manydjs (DJ set) / More T
 BA Akasha (Ab 23h) : 2manydjs (DJ set) / Perel / Greta Levska\nhttps://www.
 ibiza-heute.de/events/ims-ibiza-opening-party/
URL:https://www.ibiza-heute.de/events/ims-ibiza-opening-party/
END:VEVENT
END:VCALENDAR