BEGIN:VCALENDAR
VERSION:2.0
PRODID:-//eventon.com NONSGML v1.0//EN
CALSCALE:GREGORIAN
METHOD:PUBLISH
BEGIN:VEVENT
UID:69ea3f7658b5d
DTSTAMP:20260423T154910Z
DTSTART:20260425T220000Z
DTEND:20260425T225900Z
LOCATION:Pacha Ibiza Av. 8 d'Agost\,  07800 Eivissa\,  Illes Balears
SUMMARY:PACHA IBIZA – GRAND OPENING WEEKEND
DESCRIPTION:Part 2: Solomun Solomun\,  Blond:ish u.a. Tickets ab 50 € 23:
 00–06:00 Uhr\nhttps://www.ibiza-heute.de/events/pacha-ibiza-grand-opening
 -weekend-2/
URL:https://www.ibiza-heute.de/events/pacha-ibiza-grand-opening-weekend-2/
END:VEVENT
END:VCALENDAR