BEGIN:VCALENDAR
VERSION:2.0
PRODID:-//eventon.com NONSGML v1.0//EN
CALSCALE:GREGORIAN
METHOD:PUBLISH
BEGIN:VEVENT
UID:69ecc469a51c0
DTSTAMP:20260425T134057Z
DTSTART:20260424T170000Z
DTEND:20260426T130000Z
LOCATION:Vara de Rey Ibiza Passeig de Vara de Rey\,  5\,  07800 Eivissa\,  Illes Balears
SUMMARY:Kunst-Tour durch Eivissa-Stadt
DESCRIPTION:Das schöne Wetter lädt zum Stadtbummel ein. Und da gibt es ei
 ne Menge Kunst zu sehen. Zum dritten Mal organisiert Eivissa die Ruta d’A
 rt. Von Freitag bis Sonntag\,  24. bis 26. April\,  sind an verschiedenen 
 Schauplätzen die Werke von 150 Künstlern und Künstlerinnen\,  die auf Ib
 iza\,  auf den Balearen oder generell[..]\nhttps://www.ibiza-heute.de/event
 s/kunst-tour-durch-eivissa-stadt/
URL:https://www.ibiza-heute.de/events/kunst-tour-durch-eivissa-stadt/
END:VEVENT
END:VCALENDAR