BEGIN:VCALENDAR
VERSION:2.0
PRODID:-//eventon.com NONSGML v1.0//EN
CALSCALE:GREGORIAN
METHOD:PUBLISH
BEGIN:VEVENT
UID:69ecc4e233011
DTSTAMP:20260425T134258Z
DTSTART:20260425T090000Z
DTEND:20260425T190000Z
LOCATION:Plaza España Santa Eulària Plaza España\,  1\,  07840 Santa Eulalia Des Ríu\,  Balearic Islands
SUMMARY:Tag des Buches in Santa Eulària
DESCRIPTION:Día del Libro – Buchtag in Santa Eulària Samstag\,  25. Apr
 il 2026 Passeig de s’Alamera\,  Santa Eulària Santa Eulària feiert den 
 &#8222;Día del Libro&#8220; (Tag des Buches) mit einem vielfältigen Kultu
 rprogramm rund um Literatur\,  Musik und Tradition. Auf dem Passeig de s’
 Alamera präsentieren rund 30 Stände Bücher\,  Kunsthandwerk und lokale[.
 .]\nhttps://www.ibiza-heute.de/events/tag-des-buches-in-santa-eularia/
URL:https://www.ibiza-heute.de/events/tag-des-buches-in-santa-eularia/
END:VEVENT
END:VCALENDAR