BEGIN:VCALENDAR
VERSION:2.0
PRODID:-//eventon.com NONSGML v1.0//EN
CALSCALE:GREGORIAN
METHOD:PUBLISH
BEGIN:VEVENT
UID:69eb5d683002f
DTSTAMP:20260424T120912Z
DTSTART:20260424T150000Z
DTEND:20260424T225900Z
LOCATION:Auditori Caló de s&#039;Oli Carrer de Màlaga\,  07829\,  Illes Balears
SUMMARY:"VII Rock Island Fest "im Auditorium Caló de s'Olí
DESCRIPTION:VII Rock Island Fest Samstag\,  25. April 2026 · ab 16:00 Uhr 
 Auditori Caló de s’Oli (Sant Josep) Eintritt frei Das Rock Island Festiv
 al geht in seine siebte Ausgabe und zählt längst zu den festen Terminen i
 m musikalischen Frühlingskalender der Insel. Schauplatz ist das Open-Air-A
 uditorium am Meer im Caló de[..]\nhttps://www.ibiza-heute.de/events/vii-ro
 ck-island-fest-im-auditorium-calo-de-soli/
URL:https://www.ibiza-heute.de/events/vii-rock-island-fest-im-auditorium-calo-de-soli/
END:VEVENT
END:VCALENDAR