BEGIN:VCALENDAR
VERSION:2.0
PRODID:-//eventon.com NONSGML v1.0//EN
CALSCALE:GREGORIAN
METHOD:PUBLISH
BEGIN:VEVENT
UID:69eb72b58828f
DTSTAMP:20260424T134005Z
DTSTART:20260424T160000Z
DTEND:20260424T220000Z
LOCATION:Destino Five Ibiza 07819 Cap Martinet\,  Balearic Islands
SUMMARY:HOTEL DESTINO FIVE Grand Opening Weekend
DESCRIPTION:26. April – Grand Opening Weekend Part 3 17:00–23:00 Uhr DJ
  Line-up: Marco Carola\,  Mau P\,  Mason Collective Tickets ab 70 €\nhttp
 s://www.ibiza-heute.de/events/hotel-destino-five-grand-opening-weekend/
URL:https://www.ibiza-heute.de/events/hotel-destino-five-grand-opening-weekend/
END:VEVENT
END:VCALENDAR