BEGIN:VCALENDAR
VERSION:2.0
PRODID:-//eventon.com NONSGML v1.0//EN
CALSCALE:GREGORIAN
METHOD:PUBLISH
BEGIN:VEVENT
UID:69ed66b31ba00
DTSTAMP:20260426T011323Z
DTSTART:20260426T090000Z
DTEND:20260426T225900Z
LOCATION:Poliesportiu Can Guerxo Carrer de l'Arner\,  9\,  07817 Sant Josep de sa Talaia\,  Illes Balears
SUMMARY:Nordic Walkig in Sant Josep de sa Talaia
DESCRIPTION:Der Stadtrat von Sant Josep de sa Talaia hat das Nordic-Walking
 -Programm für 2025/2026 vorgestellt. Diese Initiative verbindet Sport und 
 Gesundheit mit der Entdeckung der vielfältigen Naturlandschaft der Gemeind
 e. Xicu Ribas\,  Stadtrat für Sport\,  betonte dazu: „Diese Ausflüge bi
 eten eine großartige Gelegenheit\,  sich an der frischen Luft sportlich zu
  betätigen und[..]\nhttps://www.ibiza-heute.de/events/nordic-walkig-in-san
 t-josep-de-sa-talaia-5/
URL:https://www.ibiza-heute.de/events/nordic-walkig-in-sant-josep-de-sa-talaia-5/
END:VEVENT
END:VCALENDAR